BEGIN:VCALENDAR
VERSION:2.0
PRODID:-//Squarespace Inc/Squarespace 6//v6//EN
BEGIN:VEVENT
UID:58d2573d9de4bbc2e5708720@squarespace.com
DTSTAMP:20170322T105232Z
DTSTART:20170527T120000Z
DTEND:20170528T220000Z
SUMMARY:AIDA Graded and Reserve Premiership
END:VEVENT
END:VCALENDAR
