BEGIN:VCALENDAR
VERSION:2.0
PRODID:-//Squarespace Inc/Squarespace 6//v6//EN
BEGIN:VEVENT
UID:58d2552d197aeac99ca25bd2@squarespace.com
DTSTAMP:20170403T212750Z
DTSTART:20170423T120000Z
DTEND:20170423T220000Z
SUMMARY:Claddagh Beginner/Primary/Elementary Feis 
GEO:-33.722254;150.710543
LOCATION:Glenquarie Community Centre\, Cranebrook High School\, Hosking Str
 eet\, Cranebrook\, Australia
END:VEVENT
END:VCALENDAR
