BEGIN:VCALENDAR
VERSION:2.0
PRODID:-//Squarespace Inc/Squarespace 6//v6//EN
BEGIN:VEVENT
UID:58d25a48e4fcb57fb4c53efb@squarespace.com
DTSTAMP:20170322T110538Z
DTSTART:20171210T130000Z
DTEND:20171211T230000Z
SUMMARY:Christmas Party 
END:VEVENT
END:VCALENDAR
