BEGIN:VCALENDAR
VERSION:2.0
PRODID:-//Squarespace Inc/Squarespace 6//v6//EN
BEGIN:VEVENT
UID:57afd5fd20099e650ee3be4e@squarespace.com
DTSTAMP:20160814T022428Z
DTSTART:20160926T120000Z
DTEND:20161002T220000Z
SUMMARY:Australian Irish Dancing Championships
GEO:-42.88098;147.334112
LOCATION:Hotel Grand Chancellor Hobart\, 1 Davey Street\, Hobart\, TAS\, 70
 00\, Australia
END:VEVENT
END:VCALENDAR
