BEGIN:VCALENDAR
VERSION:2.0
PRODID:-//Squarespace Inc/Squarespace 6//v6//EN
BEGIN:VEVENT
UID:57afd5d720099e650ee3bda6@squarespace.com
DTSTAMP:20160817T012127Z
DTSTART:20160910T120000Z
DTEND:20160911T210000Z
SUMMARY:Penrith Valley Feis
GEO:-33.766785;150.910852
LOCATION:Blacktown RSL Club\, Second Avenue\, Blacktown\, NSW\, 2148\, Aust
 ralia
END:VEVENT
END:VCALENDAR
