BEGIN:VCALENDAR
VERSION:2.0
PRODID:-//Squarespace Inc/Squarespace 6//v6//EN
BEGIN:VEVENT
UID:579ec7e7725e2570d05bf204@squarespace.com
DTSTAMP:20160814T022204Z
DTSTART:20160805T120000Z
DTEND:20160807T220000Z
SUMMARY:State Solo Championships 
END:VEVENT
END:VCALENDAR
