BEGIN:VCALENDAR
VERSION:2.0
PRODID:-//Squarespace Inc/Squarespace 6//v6//EN
BEGIN:VEVENT
UID:57afd668197aeaa4592ecebd@squarespace.com
DTSTAMP:20160817T012140Z
DTSTART:20161106T130000Z
DTEND:20161106T230000Z
SUMMARY:Four Provinces Feis
GEO:-33.751478;150.71791
LOCATION:Penrith Gaels Cultural & Sporting Club\, 75 Richmond Road\, Kingsw
 ood\, NSW\, 2747\, Australia
END:VEVENT
END:VCALENDAR
